BEGIN:VCALENDAR
VERSION:2.0
PRODID:PHP
BEGIN:VEVENT
UID:b367d338a5bcb7d902ed3f56a5d79d62
DTSTAMP:20260425T021707Z
DTSTART:20261006T14300000Z
DTEND:20261006T19450000Z
SUMMARY:15. Berliner Brandschutztreff - SAVE THE DATE
LOCATION:dbb forum Berlin, Friedrichstraße 169, 10117 Berlin
DESCRIPTION:Der 15. Berliner Brandschutztreff findet in Kooperation mit der A-W-K Ingenieurgesellschaft mbH am 06.10.2026 von 14.30 bis 19.45 Uhr (Einlass ab 14.00 Uhr) im  <a href="https://www.dbb-forum.berlin/ihr-weg-zu-uns/anreise" target="_blank" rel="noopener">dbb</a><a href="https://www.dbb-forum.berlin/ihr-weg-zu-uns/anreise" target="_blank" rel="noopener"> foru</a><a href="https://www.dbb-forum.berlin/ihr-weg-zu-uns/anreise" target="_blank" rel="noopener">m</a><a href="https://www.dbb-forum.berlin/ihr-weg-zu-uns/anreise" target="_blank" rel="noopener"> berlin</a>, Friedrichstraße 169, 10117 Berlin, statt. Im Anschluss an die Veranstaltung laden wir Sie herzlich zu einem "Get-Together" ein, um den Abend ausklingen zu lassen. Referenten und Mitorganisatoren der Veranstaltung sind Dipl.-Ing. Thomas Koch und Dipl.-Ing. Wolfram Dratwa, <a href="https://www.a-w-k.eu/" target="_blank" rel="noopener">A-W-K Ingenieurgesellschaft mbH</a>.
END:VEVENT
END:VCALENDAR