BEGIN:VCALENDAR
VERSION:2.0
PRODID:PHP
BEGIN:VEVENT
UID:26bac2812c93e3fa3ff78af567f3bbc5
DTSTAMP:20260424T200906Z
DTSTART:20221025T15300000Z
DTEND:20221025T17000000Z
SUMMARY:Beitrag des Vergaberechts zum Klimaschutz
LOCATION:online
DESCRIPTION:Klimaschutz und die entsprechende Notwendigkeit nachhaltigen Handelns sind gegenwärtig wichtige bzw. möglicherweise die wichtigsten Aufgaben staatlichen Handelns. Dies hat Folgen für die öffentliche Beschaffung, durch welche erheblich zu den Zielen des Klimaschutzes und Umweltschutzes beigetragen werden kann. In der Regel lassen sich entsprechende Aspekte in jede Phase einer Beschaffung einführen. Das Seminar soll einen ersten Eindruck zu der Thematik und den Möglichkeiten des öffentlichen Auftraggebers vermitteln.
END:VEVENT
END:VCALENDAR