BEGIN:VCALENDAR
VERSION:2.0
PRODID:PHP
BEGIN:VEVENT
UID:9faa2e5b5b45717c15ade65cf8d75c1d
DTSTAMP:20260423T090353Z
DTSTART:20260506T08300000Z
DTEND:20260507T17100000Z
SUMMARY:Europäischer Polizeikongress
LOCATION:City Cube, Messedamm 26, 14055 Berlin
DESCRIPTION:Am 6. und 7. Mai 2026 findet der Europäische Polizeikongress statt, auf dem unsere Berliner KollegInnen Anne Müller, Dr. Thomas Kirch und Prof. Dr. Ralf Leinemann sein werden.

Anne Müller wird als Podiumsgast beim Fachforum <strong>"1.3 Schneller, souveräner, aber rechtskonform? Staatliche Agilität zwischen Innovationsdruck und Souveränität"</strong> am Mittwoch, den <strong>06.05.2026</strong>, um <strong>11:00 Uhr</strong> ihre Expertise einbringen.
END:VEVENT
END:VCALENDAR