BEGIN:VCALENDAR
VERSION:2.0
PRODID:PHP
BEGIN:VEVENT
UID:ee58bffb5e36a5881899e4756464f0f9
DTSTAMP:20260425T211537Z
DTSTART:20191024T09300000Z
DTEND:20191024T16300000Z
SUMMARY:Nachträge und Bauzeit aus mangelhafter Ausschreibung - Ansprüche nach BGB-Bauvertragsrecht 2018 und VOB 2019
LOCATION:Frankfurt am Main
DESCRIPTION:
END:VEVENT
END:VCALENDAR