BEGIN:VCALENDAR
VERSION:2.0
PRODID:PHP
BEGIN:VEVENT
UID:6ae4ccb6653915d12f10f6956478964a
DTSTAMP:20260425T212802Z
DTSTART:20191023T09300000Z
DTEND:20191023T16300000Z
SUMMARY:Nachträge und Bauzeit aus mangelhafter Ausschreibung - Ansprüche nach BGB-Bauvertragsrecht 2018 und VOB 2019
LOCATION:München
DESCRIPTION:
END:VEVENT
END:VCALENDAR