BEGIN:VCALENDAR
VERSION:2.0
PRODID:PHP
BEGIN:VEVENT
UID:d02c3795180fc898d42cddb10764282f
DTSTAMP:20260425T213801Z
DTSTART:20200128T09300000Z
DTEND:20200128T17000000Z
SUMMARY:Nachträge und Bauzeit aus mangelhafter Ausschreibung - Ansprüche nach BGB-Bauvertragsrecht 2018 und VOB 2019
LOCATION:Berlin
DESCRIPTION:
END:VEVENT
END:VCALENDAR