BEGIN:VCALENDAR
VERSION:2.0
PRODID:PHP
BEGIN:VEVENT
UID:53befc8aab0cdd5feeb5a4634434292f
DTSTAMP:20260424T122942Z
DTSTART:20240202T09300000Z
DTEND:20240202T17000000Z
SUMMARY:Schnittstellen zwischen Fördermittel- und Vergaberecht
LOCATION:Mannheim und online (hybrid)
DESCRIPTION:
END:VEVENT
END:VCALENDAR